BEGIN:VCALENDAR
VERSION:2.0
PRODID:-//DGR - Deutsche Gesellschaft für Religionsphilosophie - ECPv6.15.13//NONSGML v1.0//EN
CALSCALE:GREGORIAN
METHOD:PUBLISH
X-ORIGINAL-URL:https://www.religionsphilosophie.org
X-WR-CALDESC:Events for DGR - Deutsche Gesellschaft für Religionsphilosophie
REFRESH-INTERVAL;VALUE=DURATION:PT1H
X-Robots-Tag:noindex
X-PUBLISHED-TTL:PT1H
BEGIN:VTIMEZONE
TZID:UTC
BEGIN:STANDARD
TZOFFSETFROM:+0000
TZOFFSETTO:+0000
TZNAME:UTC
DTSTART:20230101T000000
END:STANDARD
END:VTIMEZONE
BEGIN:VEVENT
DTSTART;TZID=UTC:20240613T080000
DTEND;TZID=UTC:20241128T170000
DTSTAMP:20260419T235131
CREATED:20240424T110923Z
LAST-MODIFIED:20240424T121244Z
UID:16999-1718265600-1732813200@www.religionsphilosophie.org
SUMMARY:Science and Religion Forum – Online Conference Series 2024
DESCRIPTION:The 2024 Online Conference Series of the Science and Religion Forum is inspired by Key Themes from Arthur Peacocke’s Work in what would have been his 100th year. \nFull information is on the website of the Science and Religion Forum: https://www.srforum.org/srf-conference-2024-series \nInformation for participation and the CfP you can find here:\nhttps://www.srforum.org/cfp-conference-2024 \nThere is also a student essay prize competition (Peacocke Prize):\nhttps://www.srforum.org/peacocke-prize \n  \nThe Conferences planned are the following: \n13th-14th June Continuous and co-creation: Emergence in a Scientific Age\nConfirmed Speakers:\nProf. Sarah Lumbreras Sancho\, Universidad Pontificia Comillas –  Anthropological Implications of Artificial Intelligence \n28th-29th October Science\, Causality and God: Divine Action in a Scientific Age\nConfirmed Speakers:\nDr. Adis Duderija\, Griffith University  –  Islamic Process Relational Theology\nProf. Lisanne Winslow\, University of NorthWestern St Paul – Biotheology & Divine Action\nDr. Juuso Loikkanen\, University of Eastern Finland – Orthodox Theology & Divine Action \n27th-28th November Filling and Surrounding the World: Pan(en)theism in a Scientific Age\nConfirmed Speakers:\nDr. Taylor Ott\, KU Leuven – Panentheism & Destructive Ecological Ethics\nProf. Andrei Buckareff\, Marist College – Pantheism & Panpsychism\nLina Langby\, Uppsala University – Panentheism\, classical theism\, and special divine action
URL:https://www.religionsphilosophie.org/event/science-and-religion-forum-online-conference-series-2024/
END:VEVENT
BEGIN:VEVENT
DTSTART;TZID=UTC:20241108T133000
DTEND;TZID=UTC:20241109T140000
DTSTAMP:20260419T235131
CREATED:20240522T113255Z
LAST-MODIFIED:20240523T095925Z
UID:17038-1731072600-1731160800@www.religionsphilosophie.org
SUMMARY:Jahrestagung IRF & DGR Das Unbehagen in der Kultur - Die Zukunft einer Illusion
DESCRIPTION:Ein „Schatz von Vorstellungen (…)\, geboren aus dem Bedürfnis\, die menschliche Hilflosigkeit erträglich zu machen“ – nicht mehr\, aber auch nicht weniger\, ist die Religion aus der Sicht Sigmund Freuds. Nicht mehr\, insofern als die Darstellung des Gottesgedankens als einer reinen Konstruktionsleistung des Menschen eine Subtraktion aller ontologischen Geltungsansprüche der Gottesrede beinhaltet. Aber auch nicht weniger\, insofern als unsere Vorstellungen erheblich zur Konstitution unserer Urteile über die Welt – in praktischer wie in theoretischer Hinsicht; auf individueller wie auf kollektiver Ebene – beitragen. In Freuds Religionskritik treffen damit epistemologische und handlungstheoretische\, psychoanalytische und kulturtheoretische Überlegungen zusammen. \nKonfrontiert mit einer historischen Situation\, in der gesellschaftliche Gewissheiten und bewährte Handlungsmaximen grundlegend hinterfragt werden\, ist das religionsphilosophische Denken auf eine Perspektive angewiesen\, welche die existenziell-persönliche und die kulturell-soziale Dimension des religiösen Bewusstseins in ihrer Verschränkung wahrzunehmen vermag. Was lässt sich in dieser Situation aus den Schriften Freuds nicht nur im Hinblick auf die Konstitution der Religion\, sondern zugleich auch im Hinblick auf die Konstitution von Illusionen lernen? Was lässt sich gewinnen\, wenn man Freuds Hinweis auf die mit dem kultivierten Dasein gegebenen Spannungen im Licht gegenwärtiger gesellschaftlicher Konstellationen in den Blick nimmt? Ausgehend von Fragen dieser Art nimmt die Tagung die klassischen Texte der Freudschen Religionstheorie interdisziplinär in den Blick. \nAm Ende der Tagung soll ein Ausblick auf gegenwärtige Forschungsprojekte zu Psychoanalyse und Religion stehen. Freud\, Religion und Kultur: Wie weiter? Unter dieser Überschrift werden laufende Vorhaben vorgestellt und diskutiert. Forschende in der frühen Karrierephase sind herzlich eingeladen\, ihr Projekt für diese Sektion vorzuschlagen: Call for Papers \nMehr Informationen & Anmeldung \n 
URL:https://www.religionsphilosophie.org/event/jahrestagung-irf-dgr-das-unbehagen-in-der-kultur-die-zukunft-einer-illusion/
LOCATION:Goethe-Universität Frankfurt/M. Westend\, Theodor-W-Adorno-Platz 1\, Frankfurt am Main\, 60323\, Germany
ORGANIZER;CN="Institut f%C3%BCr Religionsphilosophische Forschung & Deutsche Gesellschaft f%C3%BCr Religionsphilosphie":MAILTO:Langner-pitschmann@em.uni-frankfurt.de
END:VEVENT
BEGIN:VEVENT
DTSTART;VALUE=DATE:20241126
DTEND;VALUE=DATE:20241128
DTSTAMP:20260419T235131
CREATED:20241118T135924Z
LAST-MODIFIED:20241121T090009Z
UID:17070-1732579200-1732751999@www.religionsphilosophie.org
SUMMARY:Lektüre-Tagung Der Begriff “Reich Gottes” als Leitgedanke der Religionsphilosophie in der kantischen und nach-kantischen Konstellation.
DESCRIPTION:Ein Leipzig-Padua DAAD Workshop: Der Begriff “Reich Gottes” als Leitgedanke der Religionsphilosophie in der kantischen und nach-kantischen Konstellation. Der Workshop in Form einer Lektüre-Tagung findet vom 26. bis 27. November 2024 an der Universität Padua (Sala Diano\, Palazzo Liviano) und auf Zoom statt. Um den Link-Zoom zu bekommen\, schreiben Sie bitte an: phil-rel.pd@hotmail.com. \nDer Workshop ist die zweite Veranstaltung im Rahmen des DAAD Projekts Hochschuldialog mit Südeuropa 2024 “Die Freiheit (in) der Gemeinschaft. Von der Klassischen Deutschen Philosophie zur Gegenwart\, und zurück“\, und ist von Barbara Santini (Padua)\, Stefan Schick (Leipzig) organisiert. \nDas Tagungsprogramm können Sie hier einsehen. \nDas Plakat zur Veranstaltung finden Sie hier.
URL:https://www.religionsphilosophie.org/event/lekture-tagung-der-begriff-reich-gottes-als-leitgedanke-der-religionsphilosophie-in-der-kantischen-und-nach-kantischen-konstellation/
LOCATION:Palazzo Liviano\, Piazza Capitaniato\, 7\, Padova\, Padova\, 35139\, Italy
END:VEVENT
END:VCALENDAR