BEGIN:VCALENDAR
VERSION:2.0
PRODID:-//DGR - Deutsche Gesellschaft für Religionsphilosophie - ECPv6.15.13//NONSGML v1.0//EN
CALSCALE:GREGORIAN
METHOD:PUBLISH
X-WR-CALNAME:DGR - Deutsche Gesellschaft für Religionsphilosophie
X-ORIGINAL-URL:https://www.religionsphilosophie.org
X-WR-CALDESC:Events for DGR - Deutsche Gesellschaft für Religionsphilosophie
REFRESH-INTERVAL;VALUE=DURATION:PT1H
X-Robots-Tag:noindex
X-PUBLISHED-TTL:PT1H
BEGIN:VTIMEZONE
TZID:UTC
BEGIN:STANDARD
TZOFFSETFROM:+0000
TZOFFSETTO:+0000
TZNAME:UTC
DTSTART:20190101T000000
END:STANDARD
END:VTIMEZONE
BEGIN:VEVENT
DTSTART;VALUE=DATE:20200220
DTEND;VALUE=DATE:20200223
DTSTAMP:20260421T021856
CREATED:20221202T160555Z
LAST-MODIFIED:20221202T160555Z
UID:16545-1582156800-1582415999@www.religionsphilosophie.org
SUMMARY:Entlastung vom Absoluten: Hans Blumenberg und die Folgen. 13. Berliner Kolloquium Junge Religionsphilosophie
DESCRIPTION:  \n  \nBeschreibung\n\n  \nHans Blumenbergs Metaphorologie fordert uns dazu auf\, Metaphern und Bilder als Erkenntnisquellen ernst zu nehmen und neu in den Kanon wissenschaftlichen Wissens zu integrieren. Im Grundsatzstreit um das Selbstverständnis der Philosophie zwischen Wissenschaft und poetischer Fantasie verweigert er damit simple Polarisierungen. \nBlumenberg versteht Religionsphilosophie als Arbeit an der Geschichte der Wissenschaften. Für die Genese der „Blumenbergschen Welt“ kommt der Religionsphilosophie deshalb eine herausragende Rolle zu\, nicht nur wegen seiner berühmten Kritik an der Säkularisierungstheorie. Vor allem wird sie zur Vermittlungsgestalt zwischen neuzeitlicher Naturwissenschaft und Theologie im Übergang von Augustins Curiositasverbot zur Naturforschung bei Kopernikus und Galilei. \nSolchen Spuren will das 13. Berliner Kolloquium Junge Religionsphilosophie unter dem Titel „Entlastung vom Absoluten. Hans Blumenberg und die Folgen“ nachgehen. \nProf. Dr. Almut Bruckstein und Prof. Dr. Michael Moxter stellen im öffentlichen Teil des Kolloquiums ihre Thesen zur religionsphilosophischen Relevanz Hans Blumenbergs vor und diskutieren diese dann in einem anschließenden Podiumsgespräch. \nHier finden Sie den Flyer zur Veranstaltung. \n\n\n\n\n\n\n\n\n\n\n\n\nVeranstalter:\nKatholische Akademie in Berlin\, Dr. S. Steiner; Prof. Dr. A. Bruckstein\, FU Berlin; Prof. Dr. M. Moxter\, Hamburg.\n\n\n\n 
URL:https://www.religionsphilosophie.org/event/entlastung-vom-absoluten-hans-blumenberg-und-die-folgen-13-berliner-kolloquium-junge-religionsphilosophie/
LOCATION:Katholische Akademie in Berlin e.V.\, Hannoversche Str. 5\, Berlin\, 10115\, Germany
ORGANIZER;CN="Katholische Akademie in Berlin e.V":MAILTO:steiner@katholische-akademie-berlin.de
END:VEVENT
END:VCALENDAR