BEGIN:VCALENDAR
VERSION:2.0
PRODID:-//DGR - Deutsche Gesellschaft für Religionsphilosophie - ECPv6.15.13//NONSGML v1.0//EN
CALSCALE:GREGORIAN
METHOD:PUBLISH
X-WR-CALNAME:DGR - Deutsche Gesellschaft für Religionsphilosophie
X-ORIGINAL-URL:https://www.religionsphilosophie.org
X-WR-CALDESC:Events for DGR - Deutsche Gesellschaft für Religionsphilosophie
REFRESH-INTERVAL;VALUE=DURATION:PT1H
X-Robots-Tag:noindex
X-PUBLISHED-TTL:PT1H
BEGIN:VTIMEZONE
TZID:UTC
BEGIN:STANDARD
TZOFFSETFROM:+0000
TZOFFSETTO:+0000
TZNAME:UTC
DTSTART:20190101T000000
END:STANDARD
END:VTIMEZONE
BEGIN:VEVENT
DTSTART;VALUE=DATE:20200113
DTEND;VALUE=DATE:20200114
DTSTAMP:20260421T135743
CREATED:20221202T162601Z
LAST-MODIFIED:20221202T162601Z
UID:16579-1578873600-1578959999@www.religionsphilosophie.org
SUMMARY:Masterstudienprogramm Religionsphilosophie / Religion and Science
DESCRIPTION:  \nBeschreibung\n\n  \nReligionsphilosophie befasst sich aus philosophischer Perspektive mit Phänomenen des religiösen Glaubens. Dabei sucht sie gelebte Religion zu verstehen (historisch-hermeneutische Komponente)\, denkt diese auf die darin implizierten Möglichkeiten weiter (kreativ-konstruktive Komponente) und beurteilt das so Verstandene und Erdachte im Horizont kritisch urteilender Vernunft (kritisch-rationale Komponente). Die Religionsphilosophie stellt Fragen wie: Was ist Religion? Gibt es Eigenschaften\, die allen Religionen gemeinsam sind – lässt sich also von einem ›Wesen‹ der Religion sprechen? Ist Religion eine eigenständige ›Lebensform‹\, ein spezifisches ›Sprachspiel‹? Welche Rolle spielt sie in Kultur und Gesellschaft? Wie rational kann religiöser Glaube sein und welche Rolle kommt Emotionen im religiösen Leben zu? Können Glaubende und Nichtglaubende einander verstehen? Was heisst es\, Religion zu kritisieren oder zu begründen? Wie verhält sich Religion zu nicht-religiösen Formen des Wissens? Das Masterstudienprogramm führt in Geschichte und aktuelle Diskussionen der Religionsphilosophie ein und befähigt Studierende so zur eigenständigen Bearbeitung religionsphilosophischer Grundfragen. Vor dem Hintergrund religionsphilosophischer Klassiker (wie Hume\, Kant oder Nietzsche) werden dabei gegenwärtige (sprach)analytische und hermeneutisch-phänomenologische Zugänge zu religiösen Vollzügen und Inhalten berücksichtigt. \nZulassung\nZulassungsvoraussetzung ist ein abgeschlossenes BA-Studium einer mathematisch-naturwissenschaftlichen\, medizinischen\, rechtswissenschaftlichen\, theologischen\, philosophischen oder sonstigen geisteswissenschaftlichen Studienrichtung. BA-Absolventinnen und Absolventen einer wirtschaftswissenschaftlichen Studienrichtung werden unter Auflagen zugelassen. Das Studienprogramm kann in 2 oder 4 Semestern studiert werden. Als Minor (30 ECTS) erfordert es eine Immatrikulation an der Universität Zürich mit einem frei zu wählenden Hauptfach (90 ETCS). \nBerufsperspektiven\nMit dem Studienprogramm Religionsphilosophie/ Religion and Science erwerben Absolventinnen und Absolventen eine profilierte Zusatzqualifikation. Durch die erworbenen Kompetenzen in der kritischen Analyse komplexer gedanklicher Zusammenhänge über klassische Disziplingrenzen hinweg sind sie für viele Tätigkeitsfelder im Wissenschafts-\, Bildungs-\, Kultur- und Medienbereich qualifiziert. \nAnsprechpersonen\nProf. Dr. Matthias Wüthrich Tel. 044 634 47 53 matthias.wuethrich@theol.uzh.ch\nDr. Markus Höfner Tel. 044 634 47 52 markus.hoefner@uzh.ch \nHier finden Sie den Flyer zum Studienprogramm. \n\n\n\n\n\n\n\n\n\n\n\n\nVeranstalter:\nUZH\, Theologische Fakultät\, IHR; Prof. Dr. Matthias Wüthrich; Dr. Markus Höfner\n\n\n\n 
URL:https://www.religionsphilosophie.org/event/masterstudienprogramm-religionsphilosophie-religion-and-science/
LOCATION:Universität Zürich Theologische Fakultät 2. Stock\, Raum 200.\, Kirchgasse 9\, Zürich\, 8001\, Switzerland
END:VEVENT
END:VCALENDAR