BEGIN:VCALENDAR
VERSION:2.0
PRODID:-//DGR - Deutsche Gesellschaft für Religionsphilosophie - ECPv6.15.13//NONSGML v1.0//EN
CALSCALE:GREGORIAN
METHOD:PUBLISH
X-ORIGINAL-URL:https://www.religionsphilosophie.org
X-WR-CALDESC:Events for DGR - Deutsche Gesellschaft für Religionsphilosophie
REFRESH-INTERVAL;VALUE=DURATION:PT1H
X-Robots-Tag:noindex
X-PUBLISHED-TTL:PT1H
BEGIN:VTIMEZONE
TZID:UTC
BEGIN:STANDARD
TZOFFSETFROM:+0000
TZOFFSETTO:+0000
TZNAME:UTC
DTSTART:20180101T000000
END:STANDARD
END:VTIMEZONE
BEGIN:VEVENT
DTSTART;VALUE=DATE:20191127
DTEND;VALUE=DATE:20191128
DTSTAMP:20260421T173033
CREATED:20221202T162431Z
LAST-MODIFIED:20221202T162431Z
UID:16577-1574812800-1574899199@www.religionsphilosophie.org
SUMMARY:13. Internationaler Studienkurs in Religionsphilosophie. Moderne Religionsphilosophie der Gegenwart: Hermeneutik
DESCRIPTION:  \nBeschreibung\n\n  \nIm Mittelpunkt des religionsphilosophischen Studienkurses 2020 am Inter University Center (IUC) in Dubrovnik (Kroatien) steht das Thema “Hermeneutik”. Neben Beiträgen zu diesem Themenkreis können jedoch auch darüber hinaus gehende Beiträge von den Teilnehmerinnen und Teilnehmern präsentiert werden\, in denen sie eigene Studien und Forschungen präsentieren und zur Diskussion stellen. \nIn dem Studienkurs geht es um verschiedene Konzeptionen der Hermeneutik in deren Geschichte und um die Diskussion der Herausforderungen für eine umfassende Hermeneutik in der Gegenwart\, die insbesondere für die Interpretation von zentralen und normativen Texte von Religionen wie überhaupt allgemein von Religionen brauchbar ist und ein sachgemäßes Verständnis ermöglicht. Anlaß für das Thema ist der 500. Geburtstag des lutherischen Theologen Matthias Flacius Ilyricus\, der aus Kroatien stammte und zu den bedeutendsten Gelehrten in der kroatischen Geschichte zählt. Mit seinem 1567 veröffentlichten Clavis Scripturae Sacrae (Schlüssel zur Heiligen Schrift) hat er nicht nur eine erste evangelische Hermeneutik verfaßt\, sondern damit auch die moderne Hermeneutik überhaupt begründet. Einzelne Beiträge des Studienkurses werden sich diesem für die Geschichte der modernen Hermeneutik höchst wichtigen Werk von Matthias Flacius widmen. Darüber hinaus sollen jedoch auch Beiträge zu weiteren Konzeptionen der Hermeneutik in Geschichte und Gegenwart oder hermeneutische Aspekte von religionsphilosophischen und theologischen Ansätzen und Entwürfen präsentiert und diskutiert werden. \nDas Lehr-Konzept in diesem Studienkurs basiert darauf\, daß jede Teilnehmerin und jeder Teilnehmer ein halbstündiges Referat (mit anschließender Diskussion) zu halten hat. \nHier finden Sie den Link zum Programm als PDF-Dokument. \n\n\n\n\n\n\n\n\n\n\n\n\nVeranstalter:\nProfessores Dalferth (ZÜR/Claremont); Dierken (Halle-Wittenbg.); Gräb-Schmidt (TÜB); Großhans (MS); Zovko (Zagreb/Zadar)\n\n\n\n 
URL:https://www.religionsphilosophie.org/event/13-internationaler-studienkurs-in-religionsphilosophie-moderne-religionsphilosophie-der-gegenwart-hermeneutik-3/
LOCATION:Inter University Center Dubrovnik\, Don Frana Bulica 4\, Dubrovnik\, Croatia (Local Name: Hrvatska)
END:VEVENT
END:VCALENDAR