BEGIN:VCALENDAR
VERSION:2.0
PRODID:-//DGR - Deutsche Gesellschaft für Religionsphilosophie - ECPv6.15.13//NONSGML v1.0//EN
CALSCALE:GREGORIAN
METHOD:PUBLISH
X-WR-CALNAME:DGR - Deutsche Gesellschaft für Religionsphilosophie
X-ORIGINAL-URL:https://www.religionsphilosophie.org
X-WR-CALDESC:Events for DGR - Deutsche Gesellschaft für Religionsphilosophie
REFRESH-INTERVAL;VALUE=DURATION:PT1H
X-Robots-Tag:noindex
X-PUBLISHED-TTL:PT1H
BEGIN:VTIMEZONE
TZID:UTC
BEGIN:STANDARD
TZOFFSETFROM:+0000
TZOFFSETTO:+0000
TZNAME:UTC
DTSTART:20230101T000000
END:STANDARD
END:VTIMEZONE
BEGIN:VEVENT
DTSTART;VALUE=DATE:20240610
DTEND;VALUE=DATE:20240615
DTSTAMP:20260424T074425
CREATED:20240506T084755Z
LAST-MODIFIED:20240506T084755Z
UID:17026-1717977600-1718409599@www.religionsphilosophie.org
SUMMARY:16. Internationaler Studienkurs in Religionsphilosophie am Inter University Center Dubrovnik (Kroatien)
DESCRIPTION:Religionsphilosophie der Gegenwart: Normen – Werte – Religion \nFlyer \nOrganisatorisches\nDer Studienkurs findet in deutscher Sprache statt. Englischsprachige Beiträge sind auch möglich und\nwillkommen. Die Teilnehmerinnen und Teilnehmer organisieren ihre Reise nach Dubrovnik\, ihre Unterkunft\ndort und die Verpflegung selbst. Hilfreiche Hinweise dazu sind bei Prof. Großhans oder den anderen\nKursdirektor*innen erhältlich. Die Kursarbeit beginnt am 10. Juni um 9.00 Uhr und endet am 13. Juni\nnachmittags. Für den 14. Juni 2024 ist eine eintägige Exkursion in Planung\, vermutlich nach Mostar und\nUmgebung in Bosnien-Herzegowina. \nThematisches\nIm Mittelpunkt des religionsphilosophischen Studienkurses 2024 am Inter University Center (IUC) in\nDubrovnik (Kroatien) steht das Thema “Normen – Werte – Religion”. Normativität ist eine Grundlage\nmenschlichen Handelns und sozialen Lebens. Wie aus der evangelischen Theologie durch die zum\nSchulwissen zählende Unterscheidung von norma normans (Heilige Schrift) und norma normata\n(Bekenntnisschriften) wohl bekannt\, sind Normen Maßstäbe und Regeln zur Beurteilung von Lehren und von\nindividueller und sozialer Praxis. Zugleich sind sie immer auch strittig sowie auslegungs- und\nverhandlungsbedürftig. Insofern ist religionsphilosophisch und theologisch neben der Identifizierung von\nNormen in den Religionen immer auch zu untersuchen\, wie Normativitäts-Diskurse in den Religionen geführt\nwerden. In Zeiten religiöser Pluralität ist auch zu fragen\, ob es gemeinsame Normen in den Religionen gibt\nbzw. wie sich plurale Normen zueinander verhalten und wie sie sich zu den Normen in den Gesellschaften\nverhalten.\nZuweilen werden Normen als Resultat von Werten verstanden\, je nachdem\, wie der Wertbegriff bestimmt\nwird. Auch im Blick auf Werte stellt sich die Frage nach den Werten\, die den Religionen jeweils eigen sind\nund wie sich diese zu den Werten in einer Gesellschaft verhalten. Die moderne westliche Welt bestimmt ihre\nGrundwerte häufig als Freiheit\, Gerechtigkeit und Gleichheit bzw. Solidarität. Hier stellt sich beispielsweise\ndie Frage\, wie sich die alten Werte des christlichen Abendlands – Nächstenliebe\, Mitleid und Barmherzigkeit\n– dazu verhalten. Auch der religionsphilosophische und theologische Wertediskurs thematisiert eine Reihe\nvon Fragen\, die dem Normativitätsdiskurs analog sind: die Herkunft und Begründung der Werte\, ihre\nSubstantialität bzw. ihre Kultur- und Religionsrelativität\, die möglichen Gemeinsamkeiten religiös und\nkulturell pluraler Werte\, usw. Die hier kurz angesprochenen Fragen und Themen in den Normativitäts- und\nWertediskursen im Horizont von Religion sollen als Anregung für die Beiträge der Teilnehmerinnen und\nTeilnehmer an dem Studienkurs dienen\, auch dazu\, sie anhand konkreter Entwürfe zu erweitern und zu\nvertiefen.\nNeben Beiträgen zu dem Themenkreis “Normen – Werte – Religion” können bei dem Studienkurs auch\ndarüber hinaus gehende Beiträge von den Teilnehmerinnen und Teilnehmern präsentiert werden\, in denen sie\neigene Studien und Forschungen präsentieren und zur Diskussion stellen.\nDas Lehr-Konzept in diesem Studienkurs basiert darauf\, daß jede Teilnehmerin und jeder Teilnehmer ein\nhalbstündiges Referat (mit anschließender Diskussion) halten sollte
URL:https://www.religionsphilosophie.org/event/16-internationaler-studienkurs-in-religionsphilosophie-am-inter-university-center-dubrovnik-kroatien/
LOCATION:Inter University Centre Dubrovnik\, Don Frana Bulica 4\, Dubrovnic\, Croatia (Local Name: Hrvatska)
ORGANIZER;CN="Prof. Dr. Hans-Peter Gro%C3%9Fhans":MAILTO:grosshans@uni-muenster.de
END:VEVENT
END:VCALENDAR