BEGIN:VCALENDAR
VERSION:2.0
PRODID:-//DGR - Deutsche Gesellschaft für Religionsphilosophie - ECPv6.15.13//NONSGML v1.0//EN
CALSCALE:GREGORIAN
METHOD:PUBLISH
X-ORIGINAL-URL:https://www.religionsphilosophie.org
X-WR-CALDESC:Events for DGR - Deutsche Gesellschaft für Religionsphilosophie
REFRESH-INTERVAL;VALUE=DURATION:PT1H
X-Robots-Tag:noindex
X-PUBLISHED-TTL:PT1H
BEGIN:VTIMEZONE
TZID:UTC
BEGIN:STANDARD
TZOFFSETFROM:+0000
TZOFFSETTO:+0000
TZNAME:UTC
DTSTART:20190101T000000
END:STANDARD
END:VTIMEZONE
BEGIN:VEVENT
DTSTART;VALUE=DATE:20200305
DTEND;VALUE=DATE:20200308
DTSTAMP:20260421T021910
CREATED:20221107T082140Z
LAST-MODIFIED:20221107T100447Z
UID:16326-1583366400-1583625599@www.religionsphilosophie.org
SUMMARY:Hoffnung\, Utopie\, Apokalypse – Ernst Bloch und die Religion
DESCRIPTION:Beschreibung\n\n  \nUnter dem Titel „Hoffnung\, Utopie\, Apokalypse – Ernst Bloch und die Religion“ findet an der Katholischen Akademie in Berlin vom 5. bis 7. März 2020 eine dreitägige Konferenz zur Gegenwart Ernst Blochs statt.\nAls zentrale Figur der intellektuellen Geschichte Deutschlands nach 1945 stehen insbesondere Ernst Blochs Verhältnis zur Frankfurter Schule\, seine theologische Rezeption sowie seine Bedeutung für Gegenwartsdebatten zur Sakralisierung von Natur im Fokus der Konferenz. Weitere Sektionen widmen sich dem Zusammenhang von Messianismus und 68er-Bewegung\, der Wechselwirkung zwischen Feminismus und Blochs Philosophie der Hoffnung sowie der Rolle des Islam in Blochs Denken.\nProf. Dr. Anne Eusterschulte (Berlin)\, Prof. Dr. Gerard Raulet (Paris)\, Prof. Dr. Micha Brumlik (Berlin)\, Prof. Dr. Christoph Schmidt (Jerusalem)\, Prof. Dr. Sandra Lehmann (Kassel)\, Prof. Dr. Thomas M. Schmidt (Frankfurt/M.)\, Prof. Dr. Henning Tegtmeyer (Leuven)\, Prof. Dr. Francesca Vidal (Landau) und Prof. Dr. Richard Faber (Berlin) haben bereits Vorträge zugesagt.
URL:https://www.religionsphilosophie.org/event/hoffnung-utopie-apokalypse-ernst-bloch-und-die-religion/
LOCATION:Katholische Akademie in Berlin e.V.\, Hannoversche Str. 5\, Berlin\, 10115\, Germany
ORGANIZER;CN="Katholische Akademie in Berlin e.V":MAILTO:steiner@katholische-akademie-berlin.de
END:VEVENT
END:VCALENDAR