BEGIN:VCALENDAR
VERSION:2.0
PRODID:-//DGR - Deutsche Gesellschaft für Religionsphilosophie - ECPv6.15.13//NONSGML v1.0//EN
CALSCALE:GREGORIAN
METHOD:PUBLISH
X-WR-CALNAME:DGR - Deutsche Gesellschaft für Religionsphilosophie
X-ORIGINAL-URL:https://www.religionsphilosophie.org
X-WR-CALDESC:Events for DGR - Deutsche Gesellschaft für Religionsphilosophie
REFRESH-INTERVAL;VALUE=DURATION:PT1H
X-Robots-Tag:noindex
X-PUBLISHED-TTL:PT1H
BEGIN:VTIMEZONE
TZID:UTC
BEGIN:STANDARD
TZOFFSETFROM:+0000
TZOFFSETTO:+0000
TZNAME:UTC
DTSTART:20180101T000000
END:STANDARD
END:VTIMEZONE
BEGIN:VEVENT
DTSTART;VALUE=DATE:20191007
DTEND;VALUE=DATE:20191010
DTSTAMP:20260422T010553
CREATED:20221202T162333Z
LAST-MODIFIED:20221202T162333Z
UID:16573-1570406400-1570665599@www.religionsphilosophie.org
SUMMARY:Untergänge – Umbrüche – Anfänge. Zur Lage von Theologie und Religionsphilosophie in der frühen Weimarer Republik
DESCRIPTION:  \nBeschreibung\n\n  \nMit dem Beginn der Weimarer Republik verbanden sich dramatische religionskulturelle Veränderungen. Vor allem die verfassten Kirchen erlebten diese als Untergänge und Bedrohungen. Doch waren die Zeiten auch auf Anfang gestellt. Das gilt von der Entstehung der sog. Dialektischen Theologie\, der neuen Lust am Unbedingten\, an Souveränität und Andersheit\, aber auch von der Aufmerksamkeit für den Kairos der Geschichte und die Grundlagen demokratischer Ordnung.\nTurbulente Zeiten also für Theologie und Religionsphilosophie\, für christliches und jüdisches Denken. Was davon ist geblieben? Was erweist sich als unerledigt und als gegenwärtige Herausforderung? \n  \nKeyspeakers u.a. \nArnulf von Scheliha \nMatthias Jestaedt \nRebecca Klein \nHeinrich Assel \nDaniel Weidner \nGeorg Essen \nKlaus Fitschen \nChristian Danz \nChristian Polke \nAnne Steinmeier \nJörg Dierken \n  \nUm Anmeldung wird aus organisatorischen Gründen gebeten.\nTeilnahme am Abendempfang: für nichtstudentische Teilnehmer: Unkostenbeitrag 10.- Euro.\nKontakt: Anna.Smith@uni-hamburg.de \nHier finden Sie den Flyer mit dem Programm der Veranstaltung. \n\n\n\n\n\n\n\n\n\n\n\n\nVeranstalter:\nProf. Dr. Michael Moxter\, Universität Hamburg
URL:https://www.religionsphilosophie.org/event/untergange-umbruche-anfange-zur-lage-von-theologie-und-religionsphilosophie-in-der-fruhen-weimarer-republik/
LOCATION:Fakultät für Geisteswissenschaften\, Fachbereich Evangelische Theologie Hamburg\, Gorch-Fock-Wall 7\, Hamburg\, 20354\, Germany
END:VEVENT
END:VCALENDAR