BEGIN:VCALENDAR
VERSION:2.0
PRODID:-//DGR - Deutsche Gesellschaft für Religionsphilosophie - ECPv6.15.13//NONSGML v1.0//EN
CALSCALE:GREGORIAN
METHOD:PUBLISH
X-WR-CALNAME:DGR - Deutsche Gesellschaft für Religionsphilosophie
X-ORIGINAL-URL:https://www.religionsphilosophie.org
X-WR-CALDESC:Events for DGR - Deutsche Gesellschaft für Religionsphilosophie
REFRESH-INTERVAL;VALUE=DURATION:PT1H
X-Robots-Tag:noindex
X-PUBLISHED-TTL:PT1H
BEGIN:VTIMEZONE
TZID:UTC
BEGIN:STANDARD
TZOFFSETFROM:+0000
TZOFFSETTO:+0000
TZNAME:UTC
DTSTART:20180101T000000
END:STANDARD
END:VTIMEZONE
BEGIN:VEVENT
DTSTART;VALUE=DATE:20190821
DTEND;VALUE=DATE:20190824
DTSTAMP:20260423T030441
CREATED:20221202T162023Z
LAST-MODIFIED:20221202T162023Z
UID:16567-1566345600-1566604799@www.religionsphilosophie.org
SUMMARY:Willensfreiheit und Wunder
DESCRIPTION:  \nBeschreibung\n\n  \nRedner:\nTimothy McGrew (Western Michigan University)\nTimothy O’Connor (Indiana University Bloomington)\nRichard Swinburne (Oxford)\nAlexander Batthyany (IAP Liechtenstein)\nBenedikt Göcke (Bochum)\nJohannes Grössl (Siegen)\nChristoph Halbig (Zürich)\nUwe Meixner (Augsburg)\nDaniel von Wachter (IAP Liechtenstein)\nSven Walter (Osnabrück) und andere. \nStipendien in Höhe von 300 CHF für Studenten sind vorhanden.\nAnmeldung ist erforderlich. \nDetails siehe iap.li/tagung2019 \n\n 
URL:https://www.religionsphilosophie.org/event/willensfreiheit-und-wunder/
LOCATION:Exerzitienhaus der Erzdiözese Schloss Fürstenried\, Forst-Kasten-Allee 103\, München\, 81475\, Germany
END:VEVENT
END:VCALENDAR