BEGIN:VCALENDAR
VERSION:2.0
PRODID:-//DGR - Deutsche Gesellschaft für Religionsphilosophie - ECPv6.15.13//NONSGML v1.0//EN
CALSCALE:GREGORIAN
METHOD:PUBLISH
X-WR-CALNAME:DGR - Deutsche Gesellschaft für Religionsphilosophie
X-ORIGINAL-URL:https://www.religionsphilosophie.org
X-WR-CALDESC:Events for DGR - Deutsche Gesellschaft für Religionsphilosophie
REFRESH-INTERVAL;VALUE=DURATION:PT1H
X-Robots-Tag:noindex
X-PUBLISHED-TTL:PT1H
BEGIN:VTIMEZONE
TZID:UTC
BEGIN:STANDARD
TZOFFSETFROM:+0000
TZOFFSETTO:+0000
TZNAME:UTC
DTSTART:20180101T000000
END:STANDARD
END:VTIMEZONE
BEGIN:VEVENT
DTSTART;VALUE=DATE:20190221
DTEND;VALUE=DATE:20190224
DTSTAMP:20260424T024247
CREATED:20221202T161620Z
LAST-MODIFIED:20221202T161620Z
UID:16561-1550707200-1550966399@www.religionsphilosophie.org
SUMMARY:Geschichtsphilosophie und Eschatologie. Perspektiven nach Jacob Taubes. 12. Berliner Kolloquium Junge Religionsphilosophie
DESCRIPTION:Beschreibung\n\n  \nHier finden Sie das Plakat zur Veranstaltung. \nHier finden Sie den Link zur Veranstaltung. \nHier finden Sie den Call for Papers zur Veranstaltung. \n\nVeranstalter:Katholische Akademie Berlin; Prof. Dr. Wihelm Schmidt-Biggemann\, FU Berlin; Dr. Stephan Steiner\, Berlin
URL:https://www.religionsphilosophie.org/event/geschichtsphilosophie-und-eschatologie-perspektiven-nach-jacob-taubes-12-berliner-kolloquium-junge-religionsphilosophie/
LOCATION:Katholische Akademie in Berlin e.V.\, Hannoversche Str. 5\, Berlin\, 10115\, Germany
ORGANIZER;CN="Katholische Akademie in Berlin e.V":MAILTO:steiner@katholische-akademie-berlin.de
END:VEVENT
END:VCALENDAR