BEGIN:VCALENDAR
VERSION:2.0
PRODID:-//DGR - Deutsche Gesellschaft für Religionsphilosophie - ECPv6.15.13//NONSGML v1.0//EN
CALSCALE:GREGORIAN
METHOD:PUBLISH
X-WR-CALNAME:DGR - Deutsche Gesellschaft für Religionsphilosophie
X-ORIGINAL-URL:https://www.religionsphilosophie.org
X-WR-CALDESC:Events for DGR - Deutsche Gesellschaft für Religionsphilosophie
REFRESH-INTERVAL;VALUE=DURATION:PT1H
X-Robots-Tag:noindex
X-PUBLISHED-TTL:PT1H
BEGIN:VTIMEZONE
TZID:UTC
BEGIN:STANDARD
TZOFFSETFROM:+0000
TZOFFSETTO:+0000
TZNAME:UTC
DTSTART:20180101T000000
END:STANDARD
END:VTIMEZONE
BEGIN:VEVENT
DTSTART;VALUE=DATE:20190109
DTEND;VALUE=DATE:20190112
DTSTAMP:20260424T024200
CREATED:20221202T161302Z
LAST-MODIFIED:20221202T161302Z
UID:16553-1546992000-1547251199@www.religionsphilosophie.org
SUMMARY:Sisters in Arms. Reinventing the bond between philosophy and theology after the “empirical turn”
DESCRIPTION:  \nBeschreibung\n\n  \n  \nConference in Celebration of the 80th Anniversary of the \nINTERNATIONAL JOURNAL OF PHILOSOPHY AND THEOLOGY \n  \n  \n  \n— registration is open — \n  \nLink to the conference website. \nLink to the programme. \nRegistration deadline: Monday 26 November 2018\, noon; register here. \n  \n  \nKey note speakers include: \nProfessor Nicholas Adams (University of Birmingham)\nDr David Batho (University of Essex)\nDr Thiemo Breyer (University of Cologne)\nProfessor Beverley Clack\, (Oxford Brookes University)\nProfessor Sarah Coakley (University of Cambridge)\nDr Marc De Kesel (Radboud University Nijmegen)\nDr Rhiannon Grant (University of Birmingham)\nProfessor em. Susanne Heine (University of Vienna)\nDr Simon Hewitt (University of Leeds)\nProfessor David Jasper (University of Glasgow)\nDr Timothy Jenkins (University of Cambridge)\nDr Bettine Siertsema (VU University Amsterdam) \n  \n  \nOrganizing committee: \nW. Van Herck\, P. Schaafsma\, L. Schumacher\, T. Scrutton\, C. Richter\, M. Sarot\, G. Vanheeswijck\, J. Geldhof\, G.-J. van der Heiden\, Ph. McCosker \n\n\n\n\n\n\n\n\n\n\n\n\nVeranstalter:\nInternational Journal of Philosophy and Theology; CPG Antwerp; VHI Cambridge; IfH Bonn;
URL:https://www.religionsphilosophie.org/event/sisters-in-arms-reinventing-the-bond-between-philosophy-and-theology-after-the-empirical-turn/
LOCATION:Cambridge (Møller Centre)\, Storey’s Way\, Cambridge\, CB3 0DE\, United Kingdom
END:VEVENT
END:VCALENDAR