BEGIN:VCALENDAR
VERSION:2.0
PRODID:-//DGR - Deutsche Gesellschaft für Religionsphilosophie - ECPv6.15.13//NONSGML v1.0//EN
CALSCALE:GREGORIAN
METHOD:PUBLISH
X-WR-CALNAME:DGR - Deutsche Gesellschaft für Religionsphilosophie
X-ORIGINAL-URL:https://www.religionsphilosophie.org
X-WR-CALDESC:Events for DGR - Deutsche Gesellschaft für Religionsphilosophie
REFRESH-INTERVAL;VALUE=DURATION:PT1H
X-Robots-Tag:noindex
X-PUBLISHED-TTL:PT1H
BEGIN:VTIMEZONE
TZID:UTC
BEGIN:STANDARD
TZOFFSETFROM:+0000
TZOFFSETTO:+0000
TZNAME:UTC
DTSTART:20170101T000000
END:STANDARD
END:VTIMEZONE
BEGIN:VEVENT
DTSTART;VALUE=DATE:20180608
DTEND;VALUE=DATE:20180801
DTSTAMP:20260425T032551
CREATED:20221202T163144Z
LAST-MODIFIED:20221202T163144Z
UID:16582-1528416000-1533081599@www.religionsphilosophie.org
SUMMARY:Entscheidung der Jury: Preisfrage 2017/18 "Was verbirgt sich hinter der Rede vom 'Postfaktischen': Lüge\, Bullshit\, illusionäre Selbsttäuschung oder …?"
DESCRIPTION:  \nBeschreibung\n\n  \nIm Namen der Jury\nClemens Albrecht\, Matthew R. Robinson\, Hans-Georg Soeffner\,\nCornelia Richter\, Markus Saur\, Jochen Sautermeister\ngeben wir hiermit die Preisträger und die Preisträgerin bekannt: \n  \nPlatz 1: Dr. Martin Breul (Katholische Theologie\, Universität zu Köln): Lüge\, Bullshit\, Propaganda? ‚Postfaktische Politik‘ und das Rationalitätspotenzial der Demokratie \nPlatz 2: Florian Buchmayr\, MA (Soziologie\, Universität Berlin): Das Gerede vom Postfaktischen als diskursive Wende \nPlatz 3: Eytan Celik\, MEd (Philosophie\, Universität Bayreuth): Fake News als Bedrohung für die moderne Gesellschaft – eine kantische Perspektive \nWir gratulieren den Preisträgern und der Preisträgerin sehr herzlich\, freuen uns auf die Publikation der Beiträge sowie auf deren Prämierung und Präsentation bei unserer nächsten Konferenz 2019! Das genaue Programm wird in Kürze bekannt gegeben. \nDas Preisgeld beträgt für Platz 1: € 1000\,- und für die Plätze 2 und 3: je € 500\,-. Teilnahmeberechtigt waren Nachwuchswissenschaftler*innen aller Disziplinen. Bei Rückfragen wenden Sie sich bitte an: Prof. Dr. Cornelia Richter: cornelia.richter@uni-bonn.de \nHier finden Sie die Entscheidung als PDF-Dokument. \n\n\n\n\n\n\n\n\n\n\n\n\nVeranstalter:\nJury der Preisfrage im Rahmen der Tagung “‘Du sollst nicht lügen.’ Zur Hermeneutik der Rede vom Postfaktischen”\n\n\n\n\n 
URL:https://www.religionsphilosophie.org/event/entscheidung-der-jury-preisfrage-2017-18-was-verbirgt-sich-hinter-der-rede-vom-postfaktischen-luge-bullshit-illusionare-selbsttauschung-oder/
LOCATION:Rheinische Friedrich-Wilhelms Universität Bonn\, Regina-Pacis-Weg 3\, Bonn\, 53113\, Germany
END:VEVENT
END:VCALENDAR